BEGIN:VCALENDAR
VERSION:2.0
PRODID:-//Plone.org//NONSGML plone.app.event//EN
X-WR-TIMEZONE:Europe/Vienna
BEGIN:VEVENT
SUMMARY:flimmer.club | „es bewegt sich was“
DTSTART;TZID=Europe/Vienna:20210616T190000
DTSTAMP:20260423T175837Z
UID:90b73a11881b46dd9f2bd5df0e59401b@www.akbild.ac.at
CATEGORIES:Vorträge / Veranstaltungen
CREATED:20240104T091600Z
DESCRIPTION:A project in the context of the focus  Academy | Art | Public 
 Sphere  at the Academy of Fine Arts Vienna.Virtual Exhibition Space and Ba
 r www.flimmer.club
LAST-MODIFIED:20240802T103417Z
URL:https://www.akbild.ac.at/en/museum-and-exhibitions/art-public-sphere/p
 rojects/2021/copy_of_flimmer-club-es-bewegt-sich-was
END:VEVENT
BEGIN:VTIMEZONE
TZID:Europe/Vienna
X-LIC-LOCATION:Europe/Vienna
BEGIN:DAYLIGHT
DTSTART:20210328T030000
TZNAME:CEST
TZOFFSETFROM:+0100
TZOFFSETTO:+0200
END:DAYLIGHT
END:VTIMEZONE
END:VCALENDAR
