BEGIN:VCALENDAR
VERSION:2.0
PRODID:-//Plone.org//NONSGML plone.app.event//EN
X-WR-TIMEZONE:Europe/Vienna
BEGIN:VEVENT
SUMMARY:STATION on stage
DTSTART;VALUE=DATE:20210526
DTEND;VALUE=DATE:20210617
DTSTAMP:20260423T192626Z
UID:9d55bf90f3d44232a8765db33c4feb8b@www.akbild.ac.at
CREATED:20240103T111754Z
DESCRIPTION:A project in the context of the focus Academy | Art | Public S
 phere at the Academy of Fine Arts Vienna.
LAST-MODIFIED:20240802T103417Z
URL:https://www.akbild.ac.at/en/museum-and-exhibitions/art-public-sphere/p
 rojects/2021/station-on-stage
END:VEVENT
END:VCALENDAR
