BEGIN:VCALENDAR
VERSION:2.0
PRODID:-//Plone.org//NONSGML plone.app.event//EN
X-WR-TIMEZONE:Europe/Vienna
BEGIN:VEVENT
SUMMARY:The future of the city - how do you want to live? An artistic and 
 participatory hands-on project around an urban utopia
DTSTART;TZID=Europe/Vienna:20220122T140000
DTSTAMP:20260423T145223Z
UID:3a02785f6d4345c1bb9a0bdf1bc3a556@www.akbild.ac.at
CATEGORIES:Vorträge / Veranstaltungen
CREATED:20240102T154321Z
DESCRIPTION:A project in the context of the focus  Academy | Art | Public 
 Sphere at the Academy of Fine Arts Vienna.
LAST-MODIFIED:20240802T103417Z
URL:https://www.akbild.ac.at/en/museum-and-exhibitions/art-public-sphere/p
 rojects/2021/the-future-of-the-city-how-do-you-want-to-live-an-artistic-an
 d-participatory-hands-on-project-around-an-urban-utopia
END:VEVENT
BEGIN:VTIMEZONE
TZID:Europe/Vienna
X-LIC-LOCATION:Europe/Vienna
BEGIN:STANDARD
DTSTART:20211031T020000
TZNAME:CET
TZOFFSETFROM:+0200
TZOFFSETTO:+0100
END:STANDARD
END:VTIMEZONE
END:VCALENDAR
