BEGIN:VCALENDAR
VERSION:2.0
PRODID:-//Plone.org//NONSGML plone.app.event//EN
X-WR-TIMEZONE:Europe/Vienna
BEGIN:VEVENT
SUMMARY:The Photo Studio
DTSTART;VALUE=DATE:20211003
DTEND;VALUE=DATE:20211025
DTSTAMP:20260423T131625Z
UID:0eb4c27e192b4866a97edc5e9cb94c66@www.akbild.ac.at
CREATED:20240104T104219Z
DESCRIPTION:A project in the context of the focus Academy | Art | Public S
 phere at the Academy of Fine Arts Vienna.
LAST-MODIFIED:20240802T103417Z
URL:https://www.akbild.ac.at/en/museum-and-exhibitions/art-public-sphere/p
 rojects/2021/the-photo-studio
END:VEVENT
END:VCALENDAR
