BEGIN:VCALENDAR
VERSION:2.0
PRODID:-//Plone.org//NONSGML plone.app.event//EN
X-WR-TIMEZONE:Europe/Vienna
BEGIN:VEVENT
SUMMARY:Action Day - Program Eschenbachgasse
DTSTART;TZID=Europe/Vienna:20221019T100000
DTEND;TZID=Europe/Vienna:20221019T180000
DTSTAMP:20260423T175818Z
UID:46fe17c31cb54a4a802ffcbd7cc391ed@www.akbild.ac.at
CREATED:20220920T132937Z
DESCRIPTION:A project of Academy | Art | Public in the context of the Clim
 ate Action October
LAST-MODIFIED:20240802T103417Z
URL:https://www.akbild.ac.at/en/museum-and-exhibitions/art-public-sphere/p
 rojects/2022/action-day-1/action-day-eschenbachgasse
END:VEVENT
BEGIN:VTIMEZONE
TZID:Europe/Vienna
X-LIC-LOCATION:Europe/Vienna
BEGIN:DAYLIGHT
DTSTART:20220327T030000
TZNAME:CEST
TZOFFSETFROM:+0100
TZOFFSETTO:+0200
END:DAYLIGHT
END:VTIMEZONE
END:VCALENDAR
