BEGIN:VCALENDAR
VERSION:2.0
PRODID:-//Plone.org//NONSGML plone.app.event//EN
X-WR-TIMEZONE:Europe/Vienna
BEGIN:VEVENT
SUMMARY:Platz nehmen #2: Parliament of Delicacies
DTSTART;TZID=Europe/Vienna:20240625T160000
DTEND;TZID=Europe/Vienna:20240625T180000
DTSTAMP:20260423T175843Z
UID:1f9709e9b2624379b7350a3d64dd7040@www.akbild.ac.at
CATEGORIES:Vorträge / Veranstaltungen
CREATED:20240328T123347Z
DESCRIPTION:A series of events on the culture of public debate at Schiller
 platz by Academy | Art | Public Sphere
LAST-MODIFIED:20250918T080604Z
URL:https://www.akbild.ac.at/en/museum-and-exhibitions/art-public-sphere/p
 rojects/2024/platz-nehmen-2-parliament-of-delicacies
END:VEVENT
BEGIN:VTIMEZONE
TZID:Europe/Vienna
X-LIC-LOCATION:Europe/Vienna
BEGIN:DAYLIGHT
DTSTART:20240331T030000
TZNAME:CEST
TZOFFSETFROM:+0100
TZOFFSETTO:+0200
END:DAYLIGHT
END:VTIMEZONE
END:VCALENDAR
