BEGIN:VCALENDAR
VERSION:2.0
PRODID:-//Plone.org//NONSGML plone.app.event//EN
X-WR-TIMEZONE:Europe/Vienna
BEGIN:VEVENT
SUMMARY:Demokratie leben
DTSTART;VALUE=DATE:20250701
DTEND;VALUE=DATE:20250901
DTSTAMP:20260423T160146Z
UID:66df43cdb4be4f0cb7955404bded9c5f@www.akbild.ac.at
CATEGORIES:Ausstellungen
CREATED:20250626T091645Z
DESCRIPTION:Together for a pluralistic\, liberal and tolerant society\, a 
 free art and culture scene and a living togehter in solidarity in Austria!
  An initiative of the Academy of Fine Arts Vienna and Gewista on digital a
 dvertising media in public spaces.
LAST-MODIFIED:20250825T121328Z
URL:https://www.akbild.ac.at/en/museum-and-exhibitions/art-public-sphere/p
 rojects/2025/demokratie-leben
END:VEVENT
END:VCALENDAR
