BEGIN:VCALENDAR
VERSION:2.0
PRODID:-//Plone.org//NONSGML plone.app.event//EN
X-WR-TIMEZONE:Europe/Vienna
BEGIN:VEVENT
SUMMARY:Demokratie leben
DTSTART;TZID=Europe/Vienna:20260101T060000
DTEND;TZID=Europe/Vienna:20260228T235900
DTSTAMP:20260423T095955Z
UID:4bd87c11f7d3481abb2b95a26ac1cd1b@www.akbild.ac.at
CREATED:20251210T104041Z
DESCRIPTION:Together for a pluralistic\, liberal and tolerant society\, a 
 free art and culture scene and a living togehter in solidarity in Austria!
  An initiative of the Academy of Fine Arts Vienna and Gewista on digital a
 dvertising media in public spaces.
LAST-MODIFIED:20260216T083523Z
URL:https://www.akbild.ac.at/en/museum-and-exhibitions/art-public-sphere/p
 rojects/2026/demokratie-leben
END:VEVENT
BEGIN:VTIMEZONE
TZID:Europe/Vienna
X-LIC-LOCATION:Europe/Vienna
BEGIN:STANDARD
DTSTART:20251026T020000
TZNAME:CET
TZOFFSETFROM:+0200
TZOFFSETTO:+0100
END:STANDARD
END:VTIMEZONE
END:VCALENDAR
