BEGIN:VCALENDAR
VERSION:2.0
PRODID:-//Plone.org//NONSGML plone.app.event//EN
X-WR-TIMEZONE:Europe/Vienna
BEGIN:VEVENT
SUMMARY:Chemtrails over the Schillerplatz
DTSTART;TZID=Europe/Vienna:20230603T140000
DTEND;TZID=Europe/Vienna:20230603T190000
DTSTAMP:20260422T102816Z
UID:a83c83cec74442c68a75fea881142ba1@www.akbild.ac.at
CATEGORIES:Vorträge / Veranstaltungen
CREATED:20230510T101434Z
DESCRIPTION:An immersive parcoursDiploma thesis in Scenography by Sophie E
 idenberger
LAST-MODIFIED:20240802T103409Z
URL:https://www.akbild.ac.at/en/museum-and-exhibitions/parcours-final-work
 s/parcours-2023/copy_of_chemtrails-over-the-schillerplatz
END:VEVENT
BEGIN:VTIMEZONE
TZID:Europe/Vienna
X-LIC-LOCATION:Europe/Vienna
BEGIN:DAYLIGHT
DTSTART:20230326T030000
TZNAME:CEST
TZOFFSETFROM:+0100
TZOFFSETTO:+0200
END:DAYLIGHT
END:VTIMEZONE
END:VCALENDAR
