BEGIN:VCALENDAR
VERSION:2.0
PRODID:-//Plone.org//NONSGML plone.app.event//EN
X-WR-TIMEZONE:Europe/Vienna
BEGIN:VEVENT
SUMMARY:Verlorene Elemente offizieller Zeremonien. Symposium zu Sprache\, 
 Fantasie und Fiktion
DTSTART;TZID=Europe/Vienna:20230610T150000
DTEND;TZID=Europe/Vienna:20230610T235500
DTSTAMP:20260423T114447Z
UID:33bec992961a4b8ca6afbb2022234c8c@www.akbild.ac.at
CATEGORIES:Vorträge / Veranstaltungen
CREATED:20230603T165907Z
DESCRIPTION:Part of the diploma thesis by Anne Schmidt.
LAST-MODIFIED:20240802T103409Z
URL:https://www.akbild.ac.at/en/museum-and-exhibitions/parcours-final-work
 s/parcours-2023/verlorene-elemente-offizieller-zeremonien-symposium-zu-spr
 ache-fantasie-und-fiktion
END:VEVENT
BEGIN:VTIMEZONE
TZID:Europe/Vienna
X-LIC-LOCATION:Europe/Vienna
BEGIN:DAYLIGHT
DTSTART:20230326T030000
TZNAME:CEST
TZOFFSETFROM:+0100
TZOFFSETTO:+0200
END:DAYLIGHT
END:VTIMEZONE
END:VCALENDAR
