BEGIN:VCALENDAR
VERSION:2.0
PRODID:-//Plone.org//NONSGML plone.app.event//EN
X-WR-TIMEZONE:Europe/Vienna
BEGIN:VEVENT
SUMMARY:Parcours.Opening
DTSTART;TZID=Europe/Vienna:20240618T160000
DTSTAMP:20260423T230055Z
UID:1e69cb55366149bca5e15ab84323c40c@www.akbild.ac.at
CATEGORIES:Vorträge / Veranstaltungen
CREATED:20240529T105449Z
DESCRIPTION:Opening: June 18\, 16 h in the Courtyard at SchillerplatzOpeni
 ng hours on June 18 from 16-21 h
LAST-MODIFIED:20250617T112436Z
URL:https://www.akbild.ac.at/en/museum-and-exhibitions/parcours-final-work
 s/parcours-2024/parcours-opening
END:VEVENT
BEGIN:VTIMEZONE
TZID:Europe/Vienna
X-LIC-LOCATION:Europe/Vienna
BEGIN:DAYLIGHT
DTSTART:20240331T030000
TZNAME:CEST
TZOFFSETFROM:+0100
TZOFFSETTO:+0200
END:DAYLIGHT
END:VTIMEZONE
END:VCALENDAR
