BEGIN:VCALENDAR
VERSION:2.0
PRODID:-//Plone.org//NONSGML plone.app.event//EN
X-WR-TIMEZONE:Europe/Vienna
BEGIN:VEVENT
SUMMARY:Guided Tour: Parcours. Final Works
DTSTART;TZID=Europe/Vienna:20220624T160000
DTSTAMP:20260425T010914Z
UID:e9af9d91457d40a4bf36e22cacdd2ca6@www.akbild.ac.at
CATEGORIES:Vorträge / Veranstaltungen
CREATED:20220531T120808Z
DESCRIPTION:Art Attendant Iklim Dogan guides through the Final Works prese
 ntation at Exhibit Gallery and the Academy building at Schillerplatz and p
 rovides insights into selected works.
LAST-MODIFIED:20240802T103409Z
URL:https://www.akbild.ac.at/en/museum-and-exhibitions/parcours-final-work
 s/parcours-final-works-2022/guided-tour-parcours-final-works
END:VEVENT
BEGIN:VTIMEZONE
TZID:Europe/Vienna
X-LIC-LOCATION:Europe/Vienna
BEGIN:DAYLIGHT
DTSTART:20220327T030000
TZNAME:CEST
TZOFFSETFROM:+0100
TZOFFSETTO:+0200
END:DAYLIGHT
END:VTIMEZONE
END:VCALENDAR
