BEGIN:VCALENDAR
VERSION:2.0
PRODID:-//Plone.org//NONSGML plone.app.event//EN
X-WR-TIMEZONE:Europe/Vienna
BEGIN:VEVENT
SUMMARY:ICH FORM. Exhibition of the master projects of Design in Context 2
 025.
DTSTART;TZID=Europe/Vienna:20250617T191500
DTEND;TZID=Europe/Vienna:20250629T180000
DTSTAMP:20260423T114131Z
UID:d4705bc0c2314dc0a5e785cb43e1f600@www.akbild.ac.at
CATEGORIES:Ausstellungen
CREATED:20250603T083250Z
DESCRIPTION:Exhibition of the master projects of Design in Context\, Insti
 tute for Education in the Arts.
LAST-MODIFIED:20250612T140022Z
URL:https://www.akbild.ac.at/en/museum-and-exhibitions/parcours-final-work
 s/parcours-final-works-2025/ich-form-exhibition-of-the-master-projects-of-
 design-in-context-2025
END:VEVENT
BEGIN:VTIMEZONE
TZID:Europe/Vienna
X-LIC-LOCATION:Europe/Vienna
BEGIN:DAYLIGHT
DTSTART:20250330T030000
TZNAME:CEST
TZOFFSETFROM:+0100
TZOFFSETTO:+0200
END:DAYLIGHT
END:VTIMEZONE
END:VCALENDAR
