BEGIN:VCALENDAR
VERSION:2.0
PRODID:-//Plone.org//NONSGML plone.app.event//EN
X-WR-TIMEZONE:Europe/Vienna
BEGIN:VEVENT
SUMMARY:Luftlinie 5 Zentimeter. Exhibition of the master projects of Art a
 nd Education 2025.
DTSTART;TZID=Europe/Vienna:20250617T193000
DTEND;TZID=Europe/Vienna:20250629T180000
DTSTAMP:20260423T114426Z
UID:053d66a5de264f7bb975d7cc4fb9664d@www.akbild.ac.at
CATEGORIES:Ausstellungen
CREATED:20250612T072728Z
DESCRIPTION:Master projects in Art and Education I with Isa Rosenberger\, 
 Institute for Education in the Arts.
LAST-MODIFIED:20250616T073900Z
URL:https://www.akbild.ac.at/en/museum-and-exhibitions/parcours-final-work
 s/parcours-final-works-2025/luftlinie-5-zentimeter-exhibition-of-the-maste
 r-projects-of-art-and-education-2025
END:VEVENT
BEGIN:VTIMEZONE
TZID:Europe/Vienna
X-LIC-LOCATION:Europe/Vienna
BEGIN:DAYLIGHT
DTSTART:20250330T030000
TZNAME:CEST
TZOFFSETFROM:+0100
TZOFFSETTO:+0200
END:DAYLIGHT
END:VTIMEZONE
END:VCALENDAR
