BEGIN:VCALENDAR
VERSION:2.0
PRODID:-//Plone.org//NONSGML plone.app.event//EN
X-WR-TIMEZONE:Europe/Vienna
BEGIN:VEVENT
SUMMARY:Parcours 2025 at Schillerplatz
DTSTART;TZID=Europe/Vienna:20250617T170000
DTEND;TZID=Europe/Vienna:20250629T200000
DTSTAMP:20260423T114158Z
UID:37a571b067af4c54bd7450e975f6a1ad@www.akbild.ac.at
CATEGORIES:Vorträge / Veranstaltungen
CREATED:20250606T093230Z
DESCRIPTION:At Schillerplatz you will find the final presentations of the 
 Institute for Fine Arts and the Institute for Art and Architecture.
LAST-MODIFIED:20250615T170227Z
URL:https://www.akbild.ac.at/en/museum-and-exhibitions/parcours-final-work
 s/parcours-final-works-2025/parcours-2025-at-schillerplatz
END:VEVENT
BEGIN:VTIMEZONE
TZID:Europe/Vienna
X-LIC-LOCATION:Europe/Vienna
BEGIN:DAYLIGHT
DTSTART:20250330T030000
TZNAME:CEST
TZOFFSETFROM:+0100
TZOFFSETTO:+0200
END:DAYLIGHT
END:VTIMEZONE
END:VCALENDAR
