BEGIN:VCALENDAR
VERSION:2.0
PRODID:-//Plone.org//NONSGML plone.app.event//EN
X-WR-TIMEZONE:Europe/Vienna
BEGIN:VEVENT
SUMMARY:Parcours 2025 at the Sculpture Studios
DTSTART;TZID=Europe/Vienna:20250617T180000
DTEND;TZID=Europe/Vienna:20250629T180000
DTSTAMP:20260423T114158Z
UID:4a098639f7bc4995bd736fdcf2a35cc9@www.akbild.ac.at
CATEGORIES:Ausstellungen
CREATED:20250606T121056Z
DESCRIPTION:In the sculpture studios you will find final presentations of 
 the Institute for Fine Arts.
LAST-MODIFIED:20250612T140004Z
URL:https://www.akbild.ac.at/en/museum-and-exhibitions/parcours-final-work
 s/parcours-final-works-2025/parcours-2025-at-the-sculpture-studios
END:VEVENT
BEGIN:VTIMEZONE
TZID:Europe/Vienna
X-LIC-LOCATION:Europe/Vienna
BEGIN:DAYLIGHT
DTSTART:20250330T030000
TZNAME:CEST
TZOFFSETFROM:+0100
TZOFFSETTO:+0200
END:DAYLIGHT
END:VTIMEZONE
END:VCALENDAR
