BEGIN:VCALENDAR
VERSION:2.0
PRODID:-//Plone.org//NONSGML plone.app.event//EN
X-WR-TIMEZONE:Europe/Vienna
BEGIN:VEVENT
SUMMARY:Parcours 2025 Exhibit Eschenbachgasse
DTSTART;TZID=Europe/Vienna:20250617T180000
DTEND;TZID=Europe/Vienna:20250629T180000
DTSTAMP:20260423T114110Z
UID:ef89527ea6e148e19f54b903e94d562c@www.akbild.ac.at
CATEGORIES:Ausstellungen
CREATED:20250604T135656Z
DESCRIPTION:At Exhibit Eschenbachgasse you will find final presentations o
 f the Institute for Fine Arts.
LAST-MODIFIED:20250612T135828Z
URL:https://www.akbild.ac.at/en/museum-and-exhibitions/parcours-final-work
 s/parcours-final-works-2025/parcours-2025-exhibit-eschenbachgasse
END:VEVENT
BEGIN:VTIMEZONE
TZID:Europe/Vienna
X-LIC-LOCATION:Europe/Vienna
BEGIN:DAYLIGHT
DTSTART:20250330T030000
TZNAME:CEST
TZOFFSETFROM:+0100
TZOFFSETTO:+0200
END:DAYLIGHT
END:VTIMEZONE
END:VCALENDAR
