BEGIN:VCALENDAR
VERSION:2.0
PRODID:-//Plone.org//NONSGML plone.app.event//EN
X-WR-TIMEZONE:Europe/Vienna
BEGIN:VEVENT
SUMMARY:Parcours 2025 Exhibit Gallery and Exhibit Studio
DTSTART;TZID=Europe/Vienna:20250617T180000
DTEND;TZID=Europe/Vienna:20250629T200000
DTSTAMP:20260423T114257Z
UID:84c3d015c865481dbe53a233b883506c@www.akbild.ac.at
CATEGORIES:Ausstellungen
CREATED:20250604T140005Z
DESCRIPTION:At Exhibit Gallery and Exhibit Studio you will find final pres
 entations of the Institute for Fine Arts.
LAST-MODIFIED:20250612T135954Z
URL:https://www.akbild.ac.at/en/museum-and-exhibitions/parcours-final-work
 s/parcours-final-works-2025/parcours-2025-exhibit-gallery-and-exhibit-stud
 io
END:VEVENT
BEGIN:VTIMEZONE
TZID:Europe/Vienna
X-LIC-LOCATION:Europe/Vienna
BEGIN:DAYLIGHT
DTSTART:20250330T030000
TZNAME:CEST
TZOFFSETFROM:+0100
TZOFFSETTO:+0200
END:DAYLIGHT
END:VTIMEZONE
END:VCALENDAR
