BEGIN:VCALENDAR
VERSION:2.0
PRODID:-//Plone.org//NONSGML plone.app.event//EN
X-WR-TIMEZONE:Europe/Vienna
BEGIN:VEVENT
SUMMARY:Parcours 2025 in the Studio Building
DTSTART;TZID=Europe/Vienna:20250617T180000
DTEND;TZID=Europe/Vienna:20250629T200000
DTSTAMP:20260423T114158Z
UID:0ca085b01f26404e9d8ad51a93d55ad0@www.akbild.ac.at
CATEGORIES:Ausstellungen
CREATED:20250606T115746Z
DESCRIPTION:In the Studiobuilding of the Academy of Fine Arts Vienna you w
 ill find final presentations of the Institute for Fine Arts\, the Institut
 e for Art and Architecture and the Institute for Education in the Arts.
LAST-MODIFIED:20250617T115101Z
URL:https://www.akbild.ac.at/en/museum-and-exhibitions/parcours-final-work
 s/parcours-final-works-2025/parcours-2025-in-the-studiobuilding
END:VEVENT
BEGIN:VTIMEZONE
TZID:Europe/Vienna
X-LIC-LOCATION:Europe/Vienna
BEGIN:DAYLIGHT
DTSTART:20250330T030000
TZNAME:CEST
TZOFFSETFROM:+0100
TZOFFSETTO:+0200
END:DAYLIGHT
END:VTIMEZONE
END:VCALENDAR
