BEGIN:VCALENDAR
VERSION:2.0
PRODID:-//Plone.org//NONSGML plone.app.event//EN
X-WR-TIMEZONE:Europe/Vienna
BEGIN:VEVENT
SUMMARY:Parcours: Master Walk (Design and Context)
DTSTART;TZID=Europe/Vienna:20250617T191500
DTSTAMP:20260423T114039Z
UID:533ed387aff6494a9584d22a3107198a@www.akbild.ac.at
CATEGORIES:Vorträge / Veranstaltungen
CREATED:20250612T064951Z
DESCRIPTION:During the Master Walk\, the students of the Master projects (
 Institute for Education in the Arts) present their work in an exhibition.
LAST-MODIFIED:20250615T165855Z
URL:https://www.akbild.ac.at/en/museum-and-exhibitions/parcours-final-work
 s/parcours-final-works-2025/parcours-master-walk-design-and-context
END:VEVENT
BEGIN:VTIMEZONE
TZID:Europe/Vienna
X-LIC-LOCATION:Europe/Vienna
BEGIN:DAYLIGHT
DTSTART:20250330T030000
TZNAME:CEST
TZOFFSETFROM:+0100
TZOFFSETTO:+0200
END:DAYLIGHT
END:VTIMEZONE
END:VCALENDAR
