BEGIN:VCALENDAR
VERSION:2.0
PRODID:-//Plone.org//NONSGML plone.app.event//EN
X-WR-TIMEZONE:Europe/Vienna
BEGIN:VEVENT
SUMMARY:Parcours. Opening
DTSTART;TZID=Europe/Vienna:20250617T160000
DTSTAMP:20260423T114039Z
UID:561ea14930c9482ebbe734ab35f4efa2@www.akbild.ac.at
CATEGORIES:Vorträge / Veranstaltungen
CREATED:20250526T073830Z
DESCRIPTION:Opening: June 17\, 2025\, 16 h in the Courtyard at Schillerpla
 tzIn case of bad weather\, the opening will take place in the Aula.Opening
  hours on June 17 from 16-21 h
LAST-MODIFIED:20250617T112435Z
URL:https://www.akbild.ac.at/en/museum-and-exhibitions/parcours-final-work
 s/parcours-final-works-2025/parcours-opening
END:VEVENT
BEGIN:VTIMEZONE
TZID:Europe/Vienna
X-LIC-LOCATION:Europe/Vienna
BEGIN:DAYLIGHT
DTSTART:20250330T030000
TZNAME:CEST
TZOFFSETFROM:+0100
TZOFFSETTO:+0200
END:DAYLIGHT
END:VTIMEZONE
END:VCALENDAR
