BEGIN:VCALENDAR
VERSION:2.0
PRODID:-//Plone.org//NONSGML plone.app.event//EN
X-WR-TIMEZONE:Europe/Vienna
BEGIN:VEVENT
SUMMARY:Parcours. Tour: Exhibit Gallery
DTSTART;TZID=Europe/Vienna:20250624T150000
DTSTAMP:20260423T114157Z
UID:7f458c01426447908df5f9466c7574c1@www.akbild.ac.at
CATEGORIES:Vorträge / Veranstaltungen
CREATED:20250513T132839Z
DESCRIPTION:The Exhibit art information tours the sites and provides infor
 mation about selected works by this year's graduating students.
LAST-MODIFIED:20250612T140354Z
URL:https://www.akbild.ac.at/en/museum-and-exhibitions/parcours-final-work
 s/parcours-final-works-2025/parcours-tour-exhibit-gallery
END:VEVENT
BEGIN:VTIMEZONE
TZID:Europe/Vienna
X-LIC-LOCATION:Europe/Vienna
BEGIN:DAYLIGHT
DTSTART:20250330T030000
TZNAME:CEST
TZOFFSETFROM:+0100
TZOFFSETTO:+0200
END:DAYLIGHT
END:VTIMEZONE
END:VCALENDAR
