BEGIN:VCALENDAR
VERSION:2.0
PRODID:-//Plone.org//NONSGML plone.app.event//EN
X-WR-TIMEZONE:Europe/Vienna
BEGIN:VEVENT
SUMMARY:Parcours. Tour: Studiobuilding and Exhibit Eschenbachgasse
DTSTART;TZID=Europe/Vienna:20250621T150000
DTSTAMP:20260423T114153Z
UID:4868032cd894482aa7355a71c8f1a590@www.akbild.ac.at
CATEGORIES:Vorträge / Veranstaltungen
CREATED:20250512T124931Z
DESCRIPTION:The Exhibit art information tours the sites and provides infor
 mation about selected works by this year's graduating students.
LAST-MODIFIED:20250612T140227Z
URL:https://www.akbild.ac.at/en/museum-and-exhibitions/parcours-final-work
 s/parcours-final-works-2025/parcours-tour-studiobuilding-and-exhibit-esche
 nbachgasse
END:VEVENT
BEGIN:VTIMEZONE
TZID:Europe/Vienna
X-LIC-LOCATION:Europe/Vienna
BEGIN:DAYLIGHT
DTSTART:20250330T030000
TZNAME:CEST
TZOFFSETFROM:+0100
TZOFFSETTO:+0200
END:DAYLIGHT
END:VTIMEZONE
END:VCALENDAR
