BEGIN:VCALENDAR
VERSION:2.0
PRODID:-//Plone.org//NONSGML plone.app.event//EN
X-WR-TIMEZONE:Europe/Vienna
BEGIN:VEVENT
SUMMARY:Ute Meta Bauer: artistic director of the third Berlin Biennale
DTSTART;TZID=Europe/Vienna:20021010T182123
DTEND;TZID=Europe/Vienna:20040415T134445
DTSTAMP:20260423T131632Z
UID:cd5c8fd9c7bdcb672a08605925487d57@www.akbild.ac.at
CREATED:20220312T170600Z
DESCRIPTION:October 2002
LAST-MODIFIED:20240802T103640Z
URL:https://www.akbild.ac.at/en/news/2002/ute-meta-bauer-artistic-director
 -of-the-third-berlin-biennale
END:VEVENT
BEGIN:VTIMEZONE
TZID:Europe/Vienna
X-LIC-LOCATION:Europe/Vienna
BEGIN:DAYLIGHT
DTSTART:20020331T030000
TZNAME:CEST
TZOFFSETFROM:+0100
TZOFFSETTO:+0200
END:DAYLIGHT
BEGIN:DAYLIGHT
DTSTART:20040328T030000
TZNAME:CEST
TZOFFSETFROM:+0100
TZOFFSETTO:+0200
END:DAYLIGHT
END:VTIMEZONE
END:VCALENDAR
