BEGIN:VCALENDAR
VERSION:2.0
PRODID:-//Plone.org//NONSGML plone.app.event//EN
X-WR-TIMEZONE:Europe/Vienna
BEGIN:VEVENT
SUMMARY:Rectorial Team Assumes Office
DTSTART;TZID=Europe/Vienna:20031015T162000
DTEND;TZID=Europe/Vienna:20050110T170500
DTSTAMP:20260423T225805Z
UID:3c8e8990448169929c137af94d5c7ca1@www.akbild.ac.at
CREATED:20220312T170659Z
DESCRIPTION:October 2003
LAST-MODIFIED:20240802T103637Z
URL:https://www.akbild.ac.at/en/news/2003/rectorial-team-assumes-office
END:VEVENT
BEGIN:VTIMEZONE
TZID:Europe/Vienna
X-LIC-LOCATION:Europe/Vienna
BEGIN:DAYLIGHT
DTSTART:20030330T030000
TZNAME:CEST
TZOFFSETFROM:+0100
TZOFFSETTO:+0200
END:DAYLIGHT
BEGIN:STANDARD
DTSTART:20041031T020000
TZNAME:CET
TZOFFSETFROM:+0200
TZOFFSETTO:+0100
END:STANDARD
END:VTIMEZONE
END:VCALENDAR
