BEGIN:VCALENDAR
VERSION:2.0
PRODID:-//Plone.org//NONSGML plone.app.event//EN
X-WR-TIMEZONE:Europe/Vienna
BEGIN:VEVENT
SUMMARY:Survey 03/04 - Preview 04/05
DTSTART;TZID=Europe/Vienna:20041004T135324
DTEND;TZID=Europe/Vienna:20050201T121757
DTSTAMP:20260424T233759Z
UID:9c830c06e9cd24bd73c5a3a03bede02e@www.akbild.ac.at
CREATED:20220312T170719Z
LAST-MODIFIED:20240802T103637Z
URL:https://www.akbild.ac.at/en/news/2004/survey-03-04-preview-04-05
END:VEVENT
BEGIN:VTIMEZONE
TZID:Europe/Vienna
X-LIC-LOCATION:Europe/Vienna
BEGIN:DAYLIGHT
DTSTART:20040328T030000
TZNAME:CEST
TZOFFSETFROM:+0100
TZOFFSETTO:+0200
END:DAYLIGHT
BEGIN:STANDARD
DTSTART:20041031T020000
TZNAME:CET
TZOFFSETFROM:+0200
TZOFFSETTO:+0100
END:STANDARD
END:VTIMEZONE
END:VCALENDAR
