BEGIN:VCALENDAR
VERSION:2.0
PRODID:-//Plone.org//NONSGML plone.app.event//EN
X-WR-TIMEZONE:Europe/Vienna
BEGIN:VEVENT
SUMMARY:University Professorship in object - sculpture
DTSTART;TZID=Europe/Vienna:20040519T113645
DTEND;TZID=Europe/Vienna:20040720T171420
DTSTAMP:20260423T161616Z
UID:a3f03521bcc36234d688b645ac0dc08a@www.akbild.ac.at
CREATED:20220312T170711Z
DESCRIPTION:Deadline: May 31\, 2004
LAST-MODIFIED:20240802T103637Z
URL:https://www.akbild.ac.at/en/news/2004/university-professorship-in-obje
 ct-sculpture
END:VEVENT
BEGIN:VTIMEZONE
TZID:Europe/Vienna
X-LIC-LOCATION:Europe/Vienna
BEGIN:DAYLIGHT
DTSTART:20040328T030000
TZNAME:CEST
TZOFFSETFROM:+0100
TZOFFSETTO:+0200
END:DAYLIGHT
END:VTIMEZONE
END:VCALENDAR
