BEGIN:VCALENDAR
VERSION:2.0
PRODID:-//Plone.org//NONSGML plone.app.event//EN
X-WR-TIMEZONE:Europe/Vienna
BEGIN:VEVENT
SUMMARY:Entrance examination for Conservation and Restoration 2012/13
DTSTART;VALUE=DATE:20120130
DTEND;VALUE=DATE:20120208
DTSTAMP:20260424T045717Z
UID:6a11502cbede4c6650db5e7e14394b39@www.akbild.ac.at
CREATED:20220312T170913Z
LAST-MODIFIED:20240802T103633Z
URL:https://www.akbild.ac.at/en/news/2012/entrance-examination-for-conserv
 ation-restoration-2012-13
END:VEVENT
END:VCALENDAR
