BEGIN:VCALENDAR
VERSION:2.0
PRODID:-//Plone.org//NONSGML plone.app.event//EN
X-WR-TIMEZONE:Europe/Vienna
BEGIN:VEVENT
SUMMARY:Online registration for entrance examination Fine Arts
DTSTART;TZID=Europe/Vienna:20150218T090000
DTEND;TZID=Europe/Vienna:20150323T170000
DTSTAMP:20260424T063955Z
UID:8e38dd5f896605f3d7bc0de1a6031891@www.akbild.ac.at
CREATED:20220312T171008Z
LAST-MODIFIED:20240802T103633Z
URL:https://www.akbild.ac.at/en/news/2015/online-anmeldung-zur-zulassungsp
 ruefung-bildende-kunst
END:VEVENT
BEGIN:VTIMEZONE
TZID:Europe/Vienna
X-LIC-LOCATION:Europe/Vienna
BEGIN:STANDARD
DTSTART:20141026T020000
TZNAME:CET
TZOFFSETFROM:+0200
TZOFFSETTO:+0100
END:STANDARD
END:VTIMEZONE
END:VCALENDAR
