BEGIN:VCALENDAR
VERSION:2.0
PRODID:-//Plone.org//NONSGML plone.app.event//EN
X-WR-TIMEZONE:Europe/Vienna
BEGIN:VEVENT
SUMMARY:Online registration for entrance examination Fine Arts
DTSTART;TZID=Europe/Vienna:20160301T100000
DTEND;TZID=Europe/Vienna:20160330T160000
DTSTAMP:20260424T045817Z
UID:11dbb6b8977c5437074d5ed825ec5ec5@www.akbild.ac.at
CREATED:20220312T171101Z
LAST-MODIFIED:20240802T103633Z
URL:https://www.akbild.ac.at/en/news/2016/online-anmeldung-zur-zulassungsp
 ruefung-bildende-kunst-en
END:VEVENT
BEGIN:VTIMEZONE
TZID:Europe/Vienna
X-LIC-LOCATION:Europe/Vienna
BEGIN:STANDARD
DTSTART:20151025T020000
TZNAME:CET
TZOFFSETFROM:+0200
TZOFFSETTO:+0100
END:STANDARD
BEGIN:DAYLIGHT
DTSTART:20160327T030000
TZNAME:CEST
TZOFFSETFROM:+0100
TZOFFSETTO:+0200
END:DAYLIGHT
END:VTIMEZONE
END:VCALENDAR
