BEGIN:VCALENDAR
VERSION:2.0
PRODID:-//Plone.org//NONSGML plone.app.event//EN
X-WR-TIMEZONE:Europe/Vienna
BEGIN:VEVENT
SUMMARY:Admission Examination Fine Arts | Academic Year 2017/18
DTSTART;TZID=Europe/Vienna:20170116T100000
DTEND;TZID=Europe/Vienna:20170203T160000
DTSTAMP:20260424T045817Z
UID:8320d26ea8da800a994c3c774cc38437@www.akbild.ac.at
CREATED:20220312T171142Z
LAST-MODIFIED:20240802T103633Z
URL:https://www.akbild.ac.at/en/news/2017/copy_of_online-anmeldung-zur-zul
 assungspruefung-bildende-kunst
END:VEVENT
BEGIN:VTIMEZONE
TZID:Europe/Vienna
X-LIC-LOCATION:Europe/Vienna
BEGIN:STANDARD
DTSTART:20161030T020000
TZNAME:CET
TZOFFSETFROM:+0200
TZOFFSETTO:+0100
END:STANDARD
END:VTIMEZONE
END:VCALENDAR
