BEGIN:VCALENDAR
VERSION:2.0
PRODID:-//Plone.org//NONSGML plone.app.event//EN
X-WR-TIMEZONE:Europe/Vienna
BEGIN:VEVENT
SUMMARY:Orange the World at the Academy of Fine Arts Vienna
DTSTART;VALUE=DATE:20211125
DTEND;VALUE=DATE:20211211
DTSTAMP:20260423T234511Z
UID:148fff7f127cfdfa96e0b63fe93a7b55@www.akbild.ac.at
CREATED:20220312T171521Z
DESCRIPTION:Orange the world - 16 days against violence against women is a
 n annual international campaign that starts on November 25\, the Internati
 onal Day for the Elimination of Violence against Women\, and ends on Decem
 ber 10\, Human Rights Day. The Academy of Fine Arts is again in solidarity
  with the\n  \n   Orange the World\n  \n  campaign in 2021 and will illumi
 nate the building at Schillerplatz during this period.
LAST-MODIFIED:20240802T103630Z
URL:https://www.akbild.ac.at/en/news/2021/orange-the-world-an-der-akademie
 -der-bildenden-kuenste-wien
END:VEVENT
END:VCALENDAR
