BEGIN:VCALENDAR
VERSION:2.0
PRODID:-//Plone.org//NONSGML plone.app.event//EN
X-WR-TIMEZONE:Europe/Vienna
BEGIN:VEVENT
SUMMARY:Das Edith 2022
DTSTART;VALUE=DATE:20220503
DTEND;VALUE=DATE:20220511
DTSTAMP:20260423T123240Z
UID:84c2562e2d70f9325431394813640d9b@www.akbild.ac.at
CREATED:20220312T171541Z
DESCRIPTION:Since 2017\, students of the graphic and printmaking departmen
 t at the Academy of Fine Arts Vienna have been been realizing  DAS EDITH  
 \, now for the 5th time - a project for contemporary printmaking under the
  direction of Professor Christian Schwarzwald. 37 students take part in th
 is year's edition.
LAST-MODIFIED:20240802T103623Z
URL:https://www.akbild.ac.at/en/news/2022/das-edith-2022
END:VEVENT
END:VCALENDAR
