BEGIN:VCALENDAR
VERSION:2.0
PRODID:-//Plone.org//NONSGML plone.app.event//EN
X-WR-TIMEZONE:Europe/Vienna
BEGIN:VEVENT
SUMMARY:Call for Exhibition Proposals for 2013/14
DTSTART;VALUE=DATE:20120907
DTEND;VALUE=DATE:20120908
DTSTAMP:20260419T132215Z
UID:1465ddacdff8847128ba02b2b8ad3d24@www.akbild.ac.at
CREATED:20220312T181929Z
DESCRIPTION:xhibit\, Academy of Fine Arts Vienna
LAST-MODIFIED:20240802T103208Z
URL:https://www.akbild.ac.at/en/research/art-research-service/calls-contes
 ts/2012/call-for-exhibition-proposals-for-2013-14
END:VEVENT
END:VCALENDAR
