BEGIN:VCALENDAR
VERSION:2.0
PRODID:-//Plone.org//NONSGML plone.app.event//EN
X-WR-TIMEZONE:Europe/Vienna
BEGIN:VEVENT
SUMMARY:Exhibition Programme Kunstpavillon and Neue Galerie in Innsbruck
DTSTART;VALUE=DATE:20120818
DTEND;VALUE=DATE:20120819
DTSTAMP:20260425T153311Z
UID:a681742f0445efdc5a36e317de13690c@www.akbild.ac.at
CREATED:20220312T181936Z
LAST-MODIFIED:20240802T103208Z
URL:https://www.akbild.ac.at/en/research/art-research-service/calls-contes
 ts/2012/exhibition-progrogramm-kunstpavillon-and-neue-galerie-in-innsbruck
END:VEVENT
END:VCALENDAR
