BEGIN:VCALENDAR
VERSION:2.0
PRODID:-//Plone.org//NONSGML plone.app.event//EN
X-WR-TIMEZONE:Europe/Vienna
BEGIN:VEVENT
SUMMARY:FWF - Career Development for female Researchers
DTSTART;VALUE=DATE:20121214
DTEND;VALUE=DATE:20121215
DTSTAMP:20260424T230155Z
UID:2ca5f19fe1ebdef44612c6cb0761b63e@www.akbild.ac.at
CREATED:20220312T182012Z
LAST-MODIFIED:20240802T103208Z
URL:https://www.akbild.ac.at/en/research/art-research-service/calls-contes
 ts/2012/fwf-career-development-for-female-researchers
END:VEVENT
END:VCALENDAR
