BEGIN:VCALENDAR
VERSION:2.0
PRODID:-//Plone.org//NONSGML plone.app.event//EN
X-WR-TIMEZONE:Europe/Vienna
BEGIN:VEVENT
SUMMARY:Turing Machine Award - Creativity meets Technology
DTSTART;VALUE=DATE:20121031
DTEND;VALUE=DATE:20121101
DTSTAMP:20260424T061642Z
UID:fb271d279a2fb59c7926d25adfca0df4@www.akbild.ac.at
CREATED:20220312T181945Z
LAST-MODIFIED:20240802T103208Z
URL:https://www.akbild.ac.at/en/research/art-research-service/calls-contes
 ts/2012/turing-machine-award
END:VEVENT
END:VCALENDAR
