BEGIN:VCALENDAR
VERSION:2.0
PRODID:-//Plone.org//NONSGML plone.app.event//EN
X-WR-TIMEZONE:Europe/Vienna
BEGIN:VEVENT
SUMMARY:Lisbon Architecture Triennale - Close\, Closer
DTSTART;VALUE=DATE:20130331
DTEND;VALUE=DATE:20130401
DTSTAMP:20260425T104416Z
UID:833725915a9104bd0460d2158a11b05e@www.akbild.ac.at
CREATED:20220312T182103Z
LAST-MODIFIED:20240802T103213Z
URL:https://www.akbild.ac.at/en/research/art-research-service/calls-contes
 ts/2013/Lisbon-Architecture-Triennale-Close-Closer
END:VEVENT
END:VCALENDAR
