BEGIN:VCALENDAR
VERSION:2.0
PRODID:-//Plone.org//NONSGML plone.app.event//EN
X-WR-TIMEZONE:Europe/Vienna
BEGIN:VEVENT
SUMMARY:STRABAG Artaward International 2013
DTSTART;VALUE=DATE:20130217
DTEND;VALUE=DATE:20130218
DTSTAMP:20260426T003122Z
UID:2555273cbe8ef57c0e537e3983f3a3b0@www.akbild.ac.at
CREATED:20220312T182044Z
LAST-MODIFIED:20240802T103213Z
URL:https://www.akbild.ac.at/en/research/art-research-service/calls-contes
 ts/2013/akbild_event.2013-02-06.2518935467
END:VEVENT
END:VCALENDAR
