BEGIN:VCALENDAR
VERSION:2.0
PRODID:-//Plone.org//NONSGML plone.app.event//EN
X-WR-TIMEZONE:Europe/Vienna
BEGIN:VEVENT
SUMMARY:Video Contest Classic Clip 2013
DTSTART;VALUE=DATE:20130430
DTEND;VALUE=DATE:20130501
DTSTAMP:20260423T114256Z
UID:ef3f152df9d35ae1a87eb55ec23d997b@www.akbild.ac.at
CREATED:20220312T182157Z
LAST-MODIFIED:20240802T103213Z
URL:https://www.akbild.ac.at/en/research/art-research-service/calls-contes
 ts/2013/akbild_event.2013-02-06.6841353910
END:VEVENT
END:VCALENDAR
