BEGIN:VCALENDAR
VERSION:2.0
PRODID:-//Plone.org//NONSGML plone.app.event//EN
X-WR-TIMEZONE:Europe/Vienna
BEGIN:VEVENT
SUMMARY:FWF - Career Development for female Researchers
DTSTART;VALUE=DATE:20130529
DTEND;VALUE=DATE:20130530
DTSTAMP:20260425T040544Z
UID:7a928e5ef37f6cb5fbe98c09c18317d5@www.akbild.ac.at
CREATED:20220312T182215Z
LAST-MODIFIED:20240802T103213Z
URL:https://www.akbild.ac.at/en/research/art-research-service/calls-contes
 ts/2013/akbild_event.2013-04-12.2597086818
END:VEVENT
END:VCALENDAR
