BEGIN:VCALENDAR
VERSION:2.0
PRODID:-//Plone.org//NONSGML plone.app.event//EN
X-WR-TIMEZONE:Europe/Vienna
BEGIN:VEVENT
SUMMARY:Exhibition Trial&Error - Shedhalle Tübingen
DTSTART;VALUE=DATE:20130531
DTEND;VALUE=DATE:20130601
DTSTAMP:20260424T221306Z
UID:5459280b1c7a40cf52e653acce747654@www.akbild.ac.at
CREATED:20220312T182209Z
LAST-MODIFIED:20240802T103213Z
URL:https://www.akbild.ac.at/en/research/art-research-service/calls-contes
 ts/2013/akbild_event.2013-05-28.1144769723
END:VEVENT
END:VCALENDAR
