BEGIN:VCALENDAR
VERSION:2.0
PRODID:-//Plone.org//NONSGML plone.app.event//EN
X-WR-TIMEZONE:Europe/Vienna
BEGIN:VEVENT
SUMMARY:KRAN Film Residency ‘Gender’\, Brussels
DTSTART;VALUE=DATE:20130924
DTEND;VALUE=DATE:20130925
DTSTAMP:20260424T223115Z
UID:a66a7f79db225989591fe170440cd662@www.akbild.ac.at
CREATED:20220312T182331Z
LAST-MODIFIED:20240802T103213Z
URL:https://www.akbild.ac.at/en/research/art-research-service/calls-contes
 ts/2013/akbild_event.2013-08-20.5457899975
END:VEVENT
END:VCALENDAR
