BEGIN:VCALENDAR
VERSION:2.0
PRODID:-//Plone.org//NONSGML plone.app.event//EN
X-WR-TIMEZONE:Europe/Vienna
BEGIN:VEVENT
SUMMARY:CDA-Project Grant 2013 I Artistic Research and Production
DTSTART;VALUE=DATE:20131130
DTEND;VALUE=DATE:20131201
DTSTAMP:20260422T071333Z
UID:5f62a97301c365aaa25adb57055edcab@www.akbild.ac.at
CREATED:20220312T182356Z
LAST-MODIFIED:20240802T103217Z
URL:https://www.akbild.ac.at/en/research/art-research-service/calls-contes
 ts/2013/cda-project-grant-2013-i-artistic-research-and-production
END:VEVENT
END:VCALENDAR
