BEGIN:VCALENDAR
VERSION:2.0
PRODID:-//Plone.org//NONSGML plone.app.event//EN
X-WR-TIMEZONE:Europe/Vienna
BEGIN:VEVENT
SUMMARY:Connecting Cities | Participatory City 2014
DTSTART;VALUE=DATE:20131020
DTEND;VALUE=DATE:20131021
DTSTAMP:20260422T193255Z
UID:3c235ee69368feb2f1d0493c4cd5dcbe@www.akbild.ac.at
CREATED:20220312T182341Z
LAST-MODIFIED:20240802T103217Z
URL:https://www.akbild.ac.at/en/research/art-research-service/calls-contes
 ts/2013/connecting-cities-participatory-city-2014
END:VEVENT
END:VCALENDAR
