BEGIN:VCALENDAR
VERSION:2.0
PRODID:-//Plone.org//NONSGML plone.app.event//EN
X-WR-TIMEZONE:Europe/Vienna
BEGIN:VEVENT
SUMMARY:DOC-team | Doctoral Fellowship Programme for Teams from the Humani
 ties\, Cultural Studies and Social Sciences
DTSTART;VALUE=DATE:20131031
DTEND;VALUE=DATE:20131101
DTSTAMP:20260424T100215Z
UID:b80261848170ef6916dbc46e475869cc@www.akbild.ac.at
CREATED:20220312T182345Z
LAST-MODIFIED:20240802T103217Z
URL:https://www.akbild.ac.at/en/research/art-research-service/calls-contes
 ts/2013/doc-team-doctoral-fellowship-programme-for-teams-from-the-humaniti
 es-cultural-studies-and-social-sciences
END:VEVENT
END:VCALENDAR
