BEGIN:VCALENDAR
VERSION:2.0
PRODID:-//Plone.org//NONSGML plone.app.event//EN
X-WR-TIMEZONE:Europe/Vienna
BEGIN:VEVENT
SUMMARY:European Forum Alpbach | Scholarships
DTSTART;VALUE=DATE:20130502
DTEND;VALUE=DATE:20130503
DTSTAMP:20260425T110510Z
UID:6473f292b50cc2d15ac2843d2cfa6b5e@www.akbild.ac.at
CREATED:20220312T182156Z
LAST-MODIFIED:20240802T103213Z
URL:https://www.akbild.ac.at/en/research/art-research-service/calls-contes
 ts/2013/european-forum-alpbach-scholarships
END:VEVENT
END:VCALENDAR
