BEGIN:VCALENDAR
VERSION:2.0
PRODID:-//Plone.org//NONSGML plone.app.event//EN
X-WR-TIMEZONE:Europe/Vienna
BEGIN:VEVENT
SUMMARY:Henkel Young Artists Prize Austria
DTSTART;VALUE=DATE:20130607
DTEND;VALUE=DATE:20130608
DTSTAMP:20260423T114112Z
UID:a99938e2fd808120309f0ed6403b875a@www.akbild.ac.at
CREATED:20220312T182213Z
LAST-MODIFIED:20240802T103213Z
URL:https://www.akbild.ac.at/en/research/art-research-service/calls-contes
 ts/2013/henkel-young-artists-prize-austria
END:VEVENT
END:VCALENDAR
