BEGIN:VCALENDAR
VERSION:2.0
PRODID:-//Plone.org//NONSGML plone.app.event//EN
X-WR-TIMEZONE:Europe/Vienna
BEGIN:VEVENT
SUMMARY:KRAN Film Residency ‘Labour’\, Brussels
DTSTART;VALUE=DATE:20130910
DTEND;VALUE=DATE:20130911
DTSTAMP:20260424T205353Z
UID:dc750d96321b33e7d31423a3e828591c@www.akbild.ac.at
CREATED:20220312T182323Z
LAST-MODIFIED:20240802T103213Z
URL:https://www.akbild.ac.at/en/research/art-research-service/calls-contes
 ts/2013/kran-film-residency-2018labour2019-brussels
END:VEVENT
END:VCALENDAR
