BEGIN:VCALENDAR
VERSION:2.0
PRODID:-//Plone.org//NONSGML plone.app.event//EN
X-WR-TIMEZONE:Europe/Vienna
BEGIN:VEVENT
SUMMARY:Marietta Blau Grant
DTSTART;VALUE=DATE:20130201
DTEND;VALUE=DATE:20130202
DTSTAMP:20260426T034627Z
UID:3a7deadf55479e875fa670d52d857606@www.akbild.ac.at
CREATED:20220312T182041Z
LAST-MODIFIED:20240802T103213Z
URL:https://www.akbild.ac.at/en/research/art-research-service/calls-contes
 ts/2013/marietta-blau-grant
END:VEVENT
END:VCALENDAR
